BEGIN:VCALENDAR
VERSION:2.0
PRODID:-//Garfield - Events - ECPv6.2.0.1//NONSGML v1.0//EN
CALSCALE:GREGORIAN
X-WR-CALNAME:Garfield - Events
X-ORIGINAL-URL:https://garfieldhs.seattleschools.org/events/staff-and-teac
 her-appreciation-week-sign-up/ics/
X-WR-CALDESC:Garfield - Events
REFRESH-INTERVAL;VALUE=DURATION:PT1D
X-Robots-Tag:noindex
X-PUBLISHED-TTL:PT1D
BEGIN:VTIMEZONE
TZID:America/Vancouver
BEGIN:DAYLIGHT
TZOFFSETFROM:-0800
TZOFFSETTO:-0700
TZNAME:PDT
DTSTART:20260308T100000
END:DAYLIGHT
BEGIN:STANDARD
TZOFFSETFROM:-0700
TZOFFSETTO:-0800
TZNAME:PST
DTSTART:20261101T090000
END:STANDARD
END:VTIMEZONE
BEGIN:VEVENT
DTSTART;VALUE=DATE:20260501
DTEND;VALUE=DATE:20260509
DTSTAMP:20260421T012804Z
CREATED:20260420T173326Z
LAST-MODIFIED:20260420T173330Z
UID:https://garfieldhs.seattleschools.org/events/staff-and-teacher-appreci
 ation-week-sign-up/
SUMMARY:Teacher Appreciation Week
DESCRIPTION:Staff and Teacher Appreciation Week Sign Up
URL:https://garfieldhs.seattleschools.org/events/staff-and-teacher-appreci
 ation-week-sign-up/
END:VEVENT
END:VCALENDAR