BEGIN:VCALENDAR
VERSION:2.0
PRODID:-//Garfield - Events - ECPv6.2.0.1//NONSGML v1.0//EN
CALSCALE:GREGORIAN
X-WR-CALNAME:Garfield - Events
X-ORIGINAL-URL:https://garfieldhs.seattleschools.org/events/grade-10-requi
 red-state-testing-sba-ela-cat-pt-ends-2/ics/
X-WR-CALDESC:Garfield - Events
REFRESH-INTERVAL;VALUE=DURATION:PT1D
X-Robots-Tag:noindex
X-PUBLISHED-TTL:PT1D
BEGIN:VTIMEZONE
TZID:America/Vancouver
BEGIN:DAYLIGHT
TZOFFSETFROM:-0800
TZOFFSETTO:-0700
TZNAME:PDT
DTSTART:20260308T100000
END:DAYLIGHT
BEGIN:STANDARD
TZOFFSETFROM:-0700
TZOFFSETTO:-0800
TZNAME:PST
DTSTART:20261101T090000
END:STANDARD
END:VTIMEZONE
BEGIN:VEVENT
DTSTART;VALUE=DATE:20260501
DTEND;VALUE=DATE:20260502
DTSTAMP:20260424T202422Z
CREATED:20260401T094506Z
LAST-MODIFIED:20260401T094624Z
UID:https://garfieldhs.seattleschools.org/events/grade-10-required-state-t
 esting-sba-ela-cat-pt-ends-2/
SUMMARY:10th SBA ELA CAT/PT Ends
DESCRIPTION:Grade 10 Required State Testing: SBA ELA\, CAT/PT Ends
URL:https://garfieldhs.seattleschools.org/events/grade-10-required-state-t
 esting-sba-ela-cat-pt-ends-2/
END:VEVENT
END:VCALENDAR